BEGIN:VCALENDAR
VERSION:2.0
PRODID:-//Trudy Ann&#039;s Chai - ECPv4.6.1//NONSGML v1.0//EN
CALSCALE:GREGORIAN
METHOD:PUBLISH
X-WR-CALNAME:Trudy Ann&#039;s Chai
X-ORIGINAL-URL:https://trudyannschai.com
X-WR-CALDESC:Events for Trudy Ann&#039;s Chai
BEGIN:VEVENT
DTSTART;TZID=America/Vancouver:20191107T100000
DTEND;TZID=America/Vancouver:20191111T170000
DTSTAMP:20260421T112217
CREATED:20190920T070139Z
LAST-MODIFIED:20200311T091149Z
UID:3081-1573120800-1573491600@trudyannschai.com
SUMMARY:Circle Craft - Booth No: N20
DESCRIPTION:\n\n\nIf you are looking for local\, handcrafted organic teas and dry roasted cooking spices\, I have a lot of it here at Trudy Ann’s Chai & Spices. Also\, check out my cookbook: Trudy Ann’s Masala Kitchen. Stay tuned to my all-new low-carb online ketogenic cooking classes!\n\n\n\n\nCome enjoy sips of my delicious Chai to Go. Find Trudy Ann’s Chai Cycle. \n\n
URL:https://trudyannschai.com/event/circle-craft-4/
LOCATION:Vancouver Convention Centre West Building\, 1055 Canada Pl\, Vancouver\, BC V6C 3T4\, Canada\, British Columbia\, V6C 3T4\, Canada
CATEGORIES:Events
END:VEVENT
END:VCALENDAR