BEGIN:VCALENDAR
VERSION:2.0
PRODID:-//Trudy Ann&#039;s Chai - ECPv4.6.1//NONSGML v1.0//EN
CALSCALE:GREGORIAN
METHOD:PUBLISH
X-WR-CALNAME:Trudy Ann&#039;s Chai
X-ORIGINAL-URL:https://trudyannschai.com
X-WR-CALDESC:Events for Trudy Ann&#039;s Chai
BEGIN:VEVENT
DTSTART;TZID=America/Vancouver:20191026T120000
DTEND;TZID=America/Vancouver:20191026T170000
DTSTAMP:20260421T112312
CREATED:20191015T061330Z
LAST-MODIFIED:20191015T061330Z
UID:3156-1572091200-1572109200@trudyannschai.com
SUMMARY:Diwali Fest
DESCRIPTION:If you are looking for local\, handcrafted organic teas and dry roasted cooking spices\, I have a lot of it here at Trudy Ann’s Chai & Spices to keep you warm in the winter. Also\, check out my cookbook: Trudy Ann’s Masala Kitchen. Stay tuned to my all-new low-carb online ketogenic cooking classes!\nCome enjoy sips of my delicious Chai to Go. Find Trudy Ann’s Chai Cycle. \n
URL:https://trudyannschai.com/event/diwali-fest/
LOCATION:Canada
CATEGORIES:Events
END:VEVENT
END:VCALENDAR