BEGIN:VCALENDAR
VERSION:2.0
PRODID:-//Trudy Ann&#039;s Chai - ECPv4.6.1//NONSGML v1.0//EN
CALSCALE:GREGORIAN
METHOD:PUBLISH
X-WR-CALNAME:Trudy Ann&#039;s Chai
X-ORIGINAL-URL:https://trudyannschai.com
X-WR-CALDESC:Events for Trudy Ann&#039;s Chai
BEGIN:VEVENT
DTSTART;TZID=America/Vancouver:20190912T150000
DTEND;TZID=America/Vancouver:20190912T190000
DTSTAMP:20260423T162650
CREATED:20190522T072123Z
LAST-MODIFIED:20190522T072123Z
UID:2770-1568300400-1568314800@trudyannschai.com
SUMMARY:Downtown Farmers Market
DESCRIPTION:\n\n\nIf you are looking for local\, handcrafted organic teas and dry roasted cooking spices… I have a lot of it here at Trudy Ann’s Chai & Spices to keep you warm in the winter. Also\, check out my cookbook: Trudy Ann’s Masala Kitchen. Stay tuned to my all new low-carb online ketogenic cooking classes! \n\n\n\n\nCome enjoy sips of my delicious Chai to Go. Find Trudy Ann’s Chai Cycle. \n\n
URL:https://trudyannschai.com/event/downtown-farmers-market-19/
LOCATION:650 Hamilton St.\, Vancouver\, BC\, Canada
CATEGORIES:Events
END:VEVENT
END:VCALENDAR