BEGIN:VCALENDAR
VERSION:2.0
PRODID:-//Trudy Ann&#039;s Chai - ECPv4.6.1//NONSGML v1.0//EN
CALSCALE:GREGORIAN
METHOD:PUBLISH
X-WR-CALNAME:Trudy Ann&#039;s Chai
X-ORIGINAL-URL:https://trudyannschai.com
X-WR-CALDESC:Events for Trudy Ann&#039;s Chai
BEGIN:VEVENT
DTSTART;TZID=America/Vancouver:20191130T100000
DTEND;TZID=America/Vancouver:20191130T170000
DTSTAMP:20260421T112124
CREATED:20191015T065512Z
LAST-MODIFIED:20200311T084931Z
UID:3170-1575108000-1575133200@trudyannschai.com
SUMMARY:Dunbar Holiday Craft Fair
DESCRIPTION:\n\n\nIf you are looking for local\, handcrafted organic teas and dry roasted cooking spices\, I have a lot of it here at Trudy Ann’s Chai & Spices. Also\, check out my cookbook: Trudy Ann’s Masala Kitchen. Stay tuned to my all-new low-carb online ketogenic cooking classes!\n\n\n\n\nCome enjoy sips of my delicious Chai to Go. Find Trudy Ann’s Chai Cycle. \n\n
URL:https://trudyannschai.com/event/dunbar-holiday-craft-fair-2/
LOCATION:4747 Dunbar St\, Vancouver
CATEGORIES:Events
END:VEVENT
END:VCALENDAR