BEGIN:VCALENDAR
VERSION:2.0
PRODID:-//Trudy Ann&#039;s Chai - ECPv4.6.1//NONSGML v1.0//EN
CALSCALE:GREGORIAN
METHOD:PUBLISH
X-WR-CALNAME:Trudy Ann&#039;s Chai
X-ORIGINAL-URL:https://trudyannschai.com
X-WR-CALDESC:Events for Trudy Ann&#039;s Chai
BEGIN:VEVENT
DTSTART;TZID=America/Vancouver:20191005T110000
DTEND;TZID=America/Vancouver:20191006T170000
DTSTAMP:20260423T144900
CREATED:20191003T072710Z
LAST-MODIFIED:20191003T072710Z
UID:3132-1570273200-1570381200@trudyannschai.com
SUMMARY:East Side Flea
DESCRIPTION:\n\n\nIf you are looking for local\, handcrafted organic teas and dry roasted cooking spices\, I have a lot of it here at Trudy Ann’s Chai & Spices to keep you warm in the winter. Also\, check out my cookbook: Trudy Ann’s Masala Kitchen. Stay tuned to my all-new low-carb online ketogenic cooking classes!\n\n\n\nCome enjoy sips of my delicious Chai to Go. Find Trudy Ann’s Chai Cycle. \n\n
URL:https://trudyannschai.com/event/east-side-flea/
LOCATION:550 Malkin Ave\, Vancouver\, British Columbia\, V6A 3X2\, Canada
CATEGORIES:Events
END:VEVENT
END:VCALENDAR