BEGIN:VCALENDAR
VERSION:2.0
PRODID:-//Trudy Ann&#039;s Chai - ECPv4.6.1//NONSGML v1.0//EN
CALSCALE:GREGORIAN
METHOD:PUBLISH
X-WR-CALNAME:Trudy Ann&#039;s Chai
X-ORIGINAL-URL:https://trudyannschai.com
X-WR-CALDESC:Events for Trudy Ann&#039;s Chai
BEGIN:VEVENT
DTSTART;TZID=America/Vancouver:20191012T090000
DTEND;TZID=America/Vancouver:20191012T160000
DTSTAMP:20260423T163553
CREATED:20190920T055500Z
LAST-MODIFIED:20190920T055712Z
UID:3072-1570870800-1570896000@trudyannschai.com
SUMMARY:Fort Langley Cranberry Festival
DESCRIPTION:\n\n\nIf you are looking for local\, handcrafted organic teas and dry roasted cooking spice\, I have a lot of it here at Trudy Ann’s Chai & Spices. Also\, check out my cookbook: Trudy Ann’s Masala Kitchen. Stay tuned to my all-new low-carb online ketogenic cooking classes!\n\n\n\nCome enjoy sips of my delicious Chai to Go. Find Trudy Ann’s Chai Cycle.\n
URL:https://trudyannschai.com/event/fort-langley-cranberry-festival/
LOCATION:9167 Trans Canada Trail\, Langley Twp\, BC\, Canada\, British Columbia\, Canada
CATEGORIES:Events
END:VEVENT
END:VCALENDAR