BEGIN:VCALENDAR
VERSION:2.0
PRODID:-//Trudy Ann&#039;s Chai - ECPv4.6.1//NONSGML v1.0//EN
CALSCALE:GREGORIAN
METHOD:PUBLISH
X-WR-CALNAME:Trudy Ann&#039;s Chai
X-ORIGINAL-URL:https://trudyannschai.com
X-WR-CALDESC:Events for Trudy Ann&#039;s Chai
BEGIN:VEVENT
DTSTART;TZID=America/Vancouver:20200322T100000
DTEND;TZID=America/Vancouver:20200322T140000
DTSTAMP:20260420T140647
CREATED:20200320T060617Z
LAST-MODIFIED:20200402T140832Z
UID:3537-1584871200-1584885600@trudyannschai.com
SUMMARY:Hastings Park Winter Farmers Market
DESCRIPTION:Shop local year-round: Each week you can look forward to finding locally grown vegetables and fruit\, meat and seafood from local ranchers and fishermen\, artisan cheese and bread\, herbs and seasonal nursery items\, baked goods\, prepared foods and artisanal craft. \nIf you are looking for local\, hand crafted organic teas and dry roasted cooking spices… I have a lot of it here at Trudy Ann’s Chai & Spices to keep you warm in the winter. Also\, check out my cook book: Trudy Ann’s Masala Kitchen. Stay tuned to my all new low-carb vegetarian online ketogentic cooking classes! Get one to one coaching and support. \nLOCAL PICK UP AVAILABLE!\n\nEmail me your orders\, etransfer payments after receiving the invoice: orders@trudyannschai.com                                        Pick up by appointment only at my commercial kitchen (1215 Clark Drive) or at the Vancouver farmers markets. Additionally\, use LOCAL FOOD NOW and shop in bulk by getting case deals from many of your favourite farmers market vendors. Flat delivery fee.\n
URL:https://trudyannschai.com/event/hastings-park-winter-farmers-market-6/
LOCATION:2901 East Hastings Street\, Vancouver\, BC\, Canada
CATEGORIES:Events
END:VEVENT
END:VCALENDAR