BEGIN:VCALENDAR
VERSION:2.0
PRODID:-//Trudy Ann&#039;s Chai - ECPv4.6.1//NONSGML v1.0//EN
CALSCALE:GREGORIAN
METHOD:PUBLISH
X-WR-CALNAME:Trudy Ann&#039;s Chai
X-ORIGINAL-URL:https://trudyannschai.com
X-WR-CALDESC:Events for Trudy Ann&#039;s Chai
BEGIN:VEVENT
DTSTART;TZID=America/Vancouver:20190714T100000
DTEND;TZID=America/Vancouver:20190714T140000
DTSTAMP:20260420T141401
CREATED:20190522T063437Z
LAST-MODIFIED:20190522T063712Z
UID:2740-1563098400-1563112800@trudyannschai.com
SUMMARY:Kitsilano Farmers Market
DESCRIPTION:If you are looking for local\, handcrafted organic teas and dry roasted cooking spice. I have a lot of it here at Trudy Ann’s Chai & Spices to keep you warm in the winter. Also\, check out my cookbook: Trudy Ann’s Masala Kitchen. Stay tuned to my all new low-carb online ketogenic cooking classes!\n\nCome enjoy sips of my delicious Chai to Go. Find Trudy Ann’s Chai Cycle. \n\n
URL:https://trudyannschai.com/event/kitsilano-farmers-market-9/
LOCATION:Larch Street\, Between 10 th & 12 th\, Vancouver
CATEGORIES:Events
END:VEVENT
END:VCALENDAR