BEGIN:VCALENDAR
VERSION:2.0
PRODID:-//Trudy Ann&#039;s Chai - ECPv4.6.1//NONSGML v1.0//EN
CALSCALE:GREGORIAN
METHOD:PUBLISH
X-WR-CALNAME:Trudy Ann&#039;s Chai
X-ORIGINAL-URL:https://trudyannschai.com
X-WR-CALDESC:Events for Trudy Ann&#039;s Chai
BEGIN:VEVENT
DTSTART;TZID=America/Vancouver:20190602T100000
DTEND;TZID=America/Vancouver:20190602T140000
DTSTAMP:20260420T140950
CREATED:20190517T060859Z
LAST-MODIFIED:20190517T060859Z
UID:2719-1559469600-1559484000@trudyannschai.com
SUMMARY:Mt. Pleasant Farmers Market
DESCRIPTION:\n\n\nIf you are looking for local\, handcrafted organic teas and dry roasted cooking spices… I have a lot of it here at Trudy Ann’s Chai & Spices to keep you warm in the winter. Also\, check out my cookbook: Trudy Ann’s Masala Kitchen. Stay tuned to my all new low-carb online ketogenic cooking classes!\n\n\n\n\n\n\nCome enjoy sips of my delicious Chai to Go. Find Trudy Ann’s Chai Cycle. \n\n\n\n\n\n\n\n10 year Chai Anniversary Party\, Saturday\, June 15. Stay tuned for details. \n\n\n\n\n
URL:https://trudyannschai.com/event/mt-pleasant-farmers-market/
LOCATION:8th Ave. & Guelph St.\, Vancouver\, BC\, Canada
CATEGORIES:Events
END:VEVENT
END:VCALENDAR