BEGIN:VCALENDAR
VERSION:2.0
PRODID:-//Trudy Ann&#039;s Chai - ECPv4.6.1//NONSGML v1.0//EN
CALSCALE:GREGORIAN
METHOD:PUBLISH
X-WR-CALNAME:Trudy Ann&#039;s Chai
X-ORIGINAL-URL:https://trudyannschai.com
X-WR-CALDESC:Events for Trudy Ann&#039;s Chai
BEGIN:VEVENT
DTSTART;TZID=America/Vancouver:20190719T130000
DTEND;TZID=America/Vancouver:20190721T220000
DTSTAMP:20260420T141446
CREATED:20190716T061746Z
LAST-MODIFIED:20190716T062209Z
UID:2931-1563541200-1563746400@trudyannschai.com
SUMMARY:Vancouver Folk Music Festival
DESCRIPTION:\n\n\nIf you are looking for local\, handcrafted organic teas and dry roasted cooking spices\, I have a lot of it here at Trudy Ann’s Chai & Spices to keep you warm in the winter. Also\, check out my cookbook: Trudy Ann’s Masala Kitchen. Stay tuned to my all new low-carb online ketogenic cooking classes!\n\n\n\n\nCome enjoy sips of my delicious Chai to Go. \n\n
URL:https://trudyannschai.com/event/vancouver-folk-music-festival/
LOCATION:3941 Point Grey Rd\, Vancouver\, BC V6R 1B5\, Vancouver\, BC
CATEGORIES:Events
END:VEVENT
END:VCALENDAR