BEGIN:VCALENDAR
VERSION:2.0
PRODID:-//Trudy Ann&#039;s Chai - ECPv4.6.1//NONSGML v1.0//EN
CALSCALE:GREGORIAN
METHOD:PUBLISH
X-WR-CALNAME:Trudy Ann&#039;s Chai
X-ORIGINAL-URL:https://trudyannschai.com
X-WR-CALDESC:Events for Trudy Ann&#039;s Chai
BEGIN:VEVENT
DTSTART;TZID=America/Vancouver:20191115T130000
DTEND;TZID=America/Vancouver:20191117T170000
DTSTAMP:20260421T112200
CREATED:20190920T071946Z
LAST-MODIFIED:20191112T082556Z
UID:3085-1573822800-1574010000@trudyannschai.com
SUMMARY:West Coast Christmas Show - Booth No: 571
DESCRIPTION:\n\n\nIf you are looking for local\, handcrafted organic teas and dry roasted cooking spices\, I have a lot of it here at Trudy Ann’s Chai & Spices. Also\, check out my cookbook: Trudy Ann’s Masala Kitchen. Stay tuned to my all-new low-carb online ketogenic cooking classes!\n\n\n\n\nCome enjoy sips of my delicious Chai to Go. Find Trudy Ann’s Chai Cycle. \n\n
URL:https://trudyannschai.com/event/west-coast-christmas-show/
LOCATION:TRADEX – Fraser Valley Trade & Exhibition Centre\, Abbotsford\, British Columbia\, V2T 6H5\, Canada
CATEGORIES:Events
END:VEVENT
END:VCALENDAR